BEGIN:VCALENDAR
VERSION:2.0
PRODID:-//jEvents 2.0 for Joomla//EN
CALSCALE:GREGORIAN
METHOD:PUBLISH
BEGIN:VTIMEZONE
TZID:Europe/Berlin
BEGIN:STANDARD
DTSTART:20240118T100000
RDATE:20240331T030000
TZOFFSETFROM:+0200
TZOFFSETTO:+0100
TZNAME:Europe/Berlin CET
END:STANDARD
BEGIN:STANDARD
DTSTART:20241027T020000
RDATE:20250330T030000
TZOFFSETFROM:+0200
TZOFFSETTO:+0100
TZNAME:Europe/Berlin CET
END:STANDARD
BEGIN:STANDARD
DTSTART:20251026T020000
RDATE:20260329T030000
TZOFFSETFROM:+0200
TZOFFSETTO:+0100
TZNAME:Europe/Berlin CET
END:STANDARD
BEGIN:STANDARD
DTSTART:20261025T020000
RDATE:20270328T030000
TZOFFSETFROM:+0200
TZOFFSETTO:+0100
TZNAME:Europe/Berlin CET
END:STANDARD
BEGIN:STANDARD
DTSTART:20271031T020000
RDATE:20280326T030000
TZOFFSETFROM:+0200
TZOFFSETTO:+0100
TZNAME:Europe/Berlin CET
END:STANDARD
BEGIN:STANDARD
DTSTART:20281029T020000
RDATE:20290325T030000
TZOFFSETFROM:+0200
TZOFFSETTO:+0100
TZNAME:Europe/Berlin CET
END:STANDARD
BEGIN:STANDARD
DTSTART:20291028T020000
RDATE:20300331T030000
TZOFFSETFROM:+0200
TZOFFSETTO:+0100
TZNAME:Europe/Berlin CET
END:STANDARD
BEGIN:STANDARD
DTSTART:20301027T020000
RDATE:20310330T030000
TZOFFSETFROM:+0200
TZOFFSETTO:+0100
TZNAME:Europe/Berlin CET
END:STANDARD
BEGIN:STANDARD
DTSTART:20311026T020000
RDATE:20320328T030000
TZOFFSETFROM:+0200
TZOFFSETTO:+0100
TZNAME:Europe/Berlin CET
END:STANDARD
BEGIN:DAYLIGHT
DTSTART:20240331T030000
RDATE:20241027T020000
TZOFFSETFROM:+0100
TZOFFSETTO:+0200
TZNAME:Europe/Berlin CEST
END:DAYLIGHT
BEGIN:DAYLIGHT
DTSTART:20250330T030000
RDATE:20251026T020000
TZOFFSETFROM:+0100
TZOFFSETTO:+0200
TZNAME:Europe/Berlin CEST
END:DAYLIGHT
BEGIN:DAYLIGHT
DTSTART:20260329T030000
RDATE:20261025T020000
TZOFFSETFROM:+0100
TZOFFSETTO:+0200
TZNAME:Europe/Berlin CEST
END:DAYLIGHT
BEGIN:DAYLIGHT
DTSTART:20270328T030000
RDATE:20271031T020000
TZOFFSETFROM:+0100
TZOFFSETTO:+0200
TZNAME:Europe/Berlin CEST
END:DAYLIGHT
BEGIN:DAYLIGHT
DTSTART:20280326T030000
RDATE:20281029T020000
TZOFFSETFROM:+0100
TZOFFSETTO:+0200
TZNAME:Europe/Berlin CEST
END:DAYLIGHT
BEGIN:DAYLIGHT
DTSTART:20290325T030000
RDATE:20291028T020000
TZOFFSETFROM:+0100
TZOFFSETTO:+0200
TZNAME:Europe/Berlin CEST
END:DAYLIGHT
BEGIN:DAYLIGHT
DTSTART:20300331T030000
RDATE:20301027T020000
TZOFFSETFROM:+0100
TZOFFSETTO:+0200
TZNAME:Europe/Berlin CEST
END:DAYLIGHT
BEGIN:DAYLIGHT
DTSTART:20310330T030000
RDATE:20311026T020000
TZOFFSETFROM:+0100
TZOFFSETTO:+0200
TZNAME:Europe/Berlin CEST
END:DAYLIGHT
END:VTIMEZONE
BEGIN:VEVENT
UID:772905d79fea1d7d96931ace5c9e1ba4
CATEGORIES:DEFAULT
CREATED:20250101T125122
SUMMARY:Neujahrsempfang 
LOCATION:Bäckerei Schillinger in Adenau
DESCRIPTION;ENCODING=QUOTED-PRINTABLE:\n\n \n\n\nLiebe Bürger und Bürgerinnen,\n\n\n \n\n\nwir laden Euch herzlic
 h zu unserem Neujahrsempfang des SPD Ortsvereins Adenau ein.\n\n\n \n\n\nDa
 tum: Samstag, den 18. Januar 2025\n\n\nUhrzeit: 10:00 Uhr\n\n\nOrt: Bäckere
 i Schillinger in Adenau\n\n\n \n\n\nIn diesem festlichen Rahmen freuen wir 
 uns, zwei besondere Gäste begrüßen zu dürfen:\n\n\n•Dr. Ferdi Akaltin, unse
 ren Bundestagskandidaten für den Wahlkreis 197\n\n\n•Susanne Müller, unsere
  Landtagsabgeordnete\n\n\n \n\n\nGemeinsam möchten wir mit Euch auf das neu
 e Jahr anstoßen, über aktuelle Themen diskutieren und den Blick nach vorne 
 richten.\n\n\nFür guten Kaffee wird natürlich gesorgt sein!\n\n\n \n\n\nBit
 te lasst uns bis spätestens 10. Januar 2025 wissen, ob Ihr teilnehmen könnt
 . Rückmeldungen gerne an bjoern.weck@spd-adenau.de.\n\n\n \n\n\nWir freuen 
 uns darauf, mit Euch in das Jahr 2025 zu starten und den gemeinsamen Austau
 sch zu pflegen.\n\n\n \n\n\nMit solidarischen Grüßen\n\n\nBjörn Weck\n\n\nV
 orsitzender SPD OV Adenau\n Dieser Event wurde importiert von: https://www.
 spd-adenau.de/kalender/Eventdetail/62/-/neujahrsempfang?tmpl=component
CONTACT:Diese E-Mail-Adresse ist vor Spambots geschützt! Zur Anzeige muss JavaScript eingeschaltet sein!
				document.getElementById('cloak99f5c33387d4b8e913266d67617668e8').innerHTML = '';
				var prefix = '&#109;a' + 'i&#108;' + '&#116;o';
				var path = 'hr' + 'ef' + '=';
				var addy99f5c33387d4b8e913266d67617668e8 = 'bj&#111;&#101;rn.w&#101;ck' + '&#64;';
				addy99f5c33387d4b8e913266d67617668e8 = addy99f5c33387d4b8e913266d67617668e8 + 'spd-&#97;d&#101;n&#97;&#117;' + '&#46;' + 'd&#101;';
				var addy_text99f5c33387d4b8e913266d67617668e8 = 'bj&#111;&#101;rn.w&#101;ck' + '&#64;' + 'spd-&#97;d&#101;n&#97;&#117;' + '&#46;' + 'd&#101;';document.getElementById('cloak99f5c33387d4b8e913266d67617668e8').innerHTML += ''+addy_text99f5c33387d4b8e913266d67617668e8+'';
		
DTSTAMP:20260421T135243Z
DTSTART;TZID=Europe/Berlin:20250118T100000
DTEND;TZID=Europe/Berlin:20250118T120000
SEQUENCE:0
TRANSP:OPAQUE
END:VEVENT
END:VCALENDAR