BEGIN:VCALENDAR
VERSION:2.0
PRODID:-//jEvents 2.0 for Joomla//EN
CALSCALE:GREGORIAN
METHOD:PUBLISH
BEGIN:VTIMEZONE
TZID:Europe/Berlin
BEGIN:STANDARD
DTSTART:20241027T020000
RDATE:20250330T030000
TZOFFSETFROM:+0200
TZOFFSETTO:+0100
TZNAME:Europe/Berlin CET
END:STANDARD
BEGIN:STANDARD
DTSTART:20251026T020000
RDATE:20260329T030000
TZOFFSETFROM:+0200
TZOFFSETTO:+0100
TZNAME:Europe/Berlin CET
END:STANDARD
BEGIN:STANDARD
DTSTART:20261025T020000
RDATE:20270328T030000
TZOFFSETFROM:+0200
TZOFFSETTO:+0100
TZNAME:Europe/Berlin CET
END:STANDARD
BEGIN:STANDARD
DTSTART:20271031T020000
RDATE:20280326T030000
TZOFFSETFROM:+0200
TZOFFSETTO:+0100
TZNAME:Europe/Berlin CET
END:STANDARD
BEGIN:STANDARD
DTSTART:20281029T020000
RDATE:20290325T030000
TZOFFSETFROM:+0200
TZOFFSETTO:+0100
TZNAME:Europe/Berlin CET
END:STANDARD
BEGIN:STANDARD
DTSTART:20291028T020000
RDATE:20300331T030000
TZOFFSETFROM:+0200
TZOFFSETTO:+0100
TZNAME:Europe/Berlin CET
END:STANDARD
BEGIN:STANDARD
DTSTART:20301027T020000
RDATE:20310330T030000
TZOFFSETFROM:+0200
TZOFFSETTO:+0100
TZNAME:Europe/Berlin CET
END:STANDARD
BEGIN:STANDARD
DTSTART:20311026T020000
RDATE:20320328T030000
TZOFFSETFROM:+0200
TZOFFSETTO:+0100
TZNAME:Europe/Berlin CET
END:STANDARD
BEGIN:DAYLIGHT
DTSTART:20240521T190000
RDATE:20241027T020000
TZOFFSETFROM:+0100
TZOFFSETTO:+0200
TZNAME:Europe/Berlin CEST
END:DAYLIGHT
BEGIN:DAYLIGHT
DTSTART:20250330T030000
RDATE:20251026T020000
TZOFFSETFROM:+0100
TZOFFSETTO:+0200
TZNAME:Europe/Berlin CEST
END:DAYLIGHT
BEGIN:DAYLIGHT
DTSTART:20260329T030000
RDATE:20261025T020000
TZOFFSETFROM:+0100
TZOFFSETTO:+0200
TZNAME:Europe/Berlin CEST
END:DAYLIGHT
BEGIN:DAYLIGHT
DTSTART:20270328T030000
RDATE:20271031T020000
TZOFFSETFROM:+0100
TZOFFSETTO:+0200
TZNAME:Europe/Berlin CEST
END:DAYLIGHT
BEGIN:DAYLIGHT
DTSTART:20280326T030000
RDATE:20281029T020000
TZOFFSETFROM:+0100
TZOFFSETTO:+0200
TZNAME:Europe/Berlin CEST
END:DAYLIGHT
BEGIN:DAYLIGHT
DTSTART:20290325T030000
RDATE:20291028T020000
TZOFFSETFROM:+0100
TZOFFSETTO:+0200
TZNAME:Europe/Berlin CEST
END:DAYLIGHT
BEGIN:DAYLIGHT
DTSTART:20300331T030000
RDATE:20301027T020000
TZOFFSETFROM:+0100
TZOFFSETTO:+0200
TZNAME:Europe/Berlin CEST
END:DAYLIGHT
BEGIN:DAYLIGHT
DTSTART:20310330T030000
RDATE:20311026T020000
TZOFFSETFROM:+0100
TZOFFSETTO:+0200
TZNAME:Europe/Berlin CEST
END:DAYLIGHT
END:VTIMEZONE
BEGIN:VEVENT
UID:3cce141c02a37478a292767e5eaac7c3
CATEGORIES:DEFAULT
CREATED:20250505T132708
SUMMARY:SPD Adenau Stammtisch
LOCATION:Blaue Ecke Adenau
DESCRIPTION;ENCODING=QUOTED-PRINTABLE:<p class="yiv3212514266ydpf07daa54MsoNormal"><b>SPD lädt ein zum parteioffe
 nen Stammtisch</b></p><p class="yiv3212514266ydpf07daa54MsoNormal"><b>Alte 
 Tradition wiederbelebt</b></p><p class="yiv3212514266ydpf07daa54MsoNormal">
 <b>Landtagskandidat*in für RLP-Landtagswahl im Jahr 2026 stellen sich vor</
 b></p><p class="yiv3212514266ydpf07daa54MsoNormal">Am 22. Mai 2025 ab 19 Uh
 r lädt die SPD der VG Adenau zu einem parteioffenen Stammtisch in die BLAUE
  ECKE , Am Markt 5, 53518 Adenau ein. Mit dieser Veranstaltung knüpft die S
 PD an eine alte Tradition an, dass direkte Gespräch mit den Bürgerinnen und
  Bürgern der Region zu suchen.</p><p class="yiv3212514266ydpf07daa54MsoNorm
 al">Als Highlight an diesem Abend werden sich Sandra Sebastian-Berthel und 
 Thomas Meyer als Landtagskandidat*in für den Wahlkreis 14 vorstellen. Darüb
 er hinaus dient das Treffen auch dem offenen Gedanken- und Meinungsaustausc
 h. Angesichts der nun neu gebildeten Regierung auf Bundesebene dürfte es re
 ichlich Gesprächsstoff geben. Aber auch kommunale Themen werden nicht zu ku
 rz kommen, da auch Ratsmitglieder anwesend sein werden.</p><p class="yiv321
 2514266ydpf07daa54MsoNormal">Der SPD-Vorstand freut sich über rege Teilnahm
 e. Anmeldung bitte bis zum 20.5.2025 an <span id="cloak6c981a7da3d74ac8ceca
 70bf1ed8d701">Diese E-Mail-Adresse ist vor Spambots geschützt! Zur Anzeige 
 muss JavaScript eingeschaltet sein!</span><script type='text/javascript'>
	
 			document.getElementById('cloak6c981a7da3d74ac8ceca70bf1ed8d701').innerHT
 ML = '';
				var prefix = '&#109;a' + 'i&#108;' + '&#116;o';
				var path =
  'hr' + 'ef' + '=';
				var addy6c981a7da3d74ac8ceca70bf1ed8d701 = 'bj&#111
 ;&#101;rn.w&#101;ck' + '&#64;';
				addy6c981a7da3d74ac8ceca70bf1ed8d701 = 
 addy6c981a7da3d74ac8ceca70bf1ed8d701 + 'spd' + '&#46;' + '&#97;d&#101;n&#97
 ;&#117;';
				var addy_text6c981a7da3d74ac8ceca70bf1ed8d701 = 'bj&#111;&#10
 1;rn.w&#101;ck' + '&#64;' + 'spd' + '&#46;' + '&#97;d&#101;n&#97;&#117;';do
 cument.getElementById('cloak6c981a7da3d74ac8ceca70bf1ed8d701').innerHTML +=
  '<a ' + path + '\'' + prefix + ':' + addy6c981a7da3d74ac8ceca70bf1ed8d701 
 + '\'>'+addy_text6c981a7da3d74ac8ceca70bf1ed8d701+'<\/a>';
		</script> .de<
 /p> Dieser Event wurde importiert von: https://www.spd-adenau.de/kalender/E
 ventdetail/63/-/spd-adenau-stammtisch?tmpl=component
DTSTAMP:20260421T095606Z
DTSTART;TZID=Europe/Berlin:20250522T190000
SEQUENCE:0
TRANSP:OPAQUE
END:VEVENT
END:VCALENDAR