BEGIN:VCALENDAR
VERSION:2.0
PRODID:-//jEvents 2.0 for Joomla//EN
CALSCALE:GREGORIAN
METHOD:PUBLISH
BEGIN:VTIMEZONE
TZID:Europe/Berlin
BEGIN:STANDARD
DTSTART:20250111T190000
RDATE:20250330T030000
TZOFFSETFROM:+0200
TZOFFSETTO:+0100
TZNAME:Europe/Berlin CET
END:STANDARD
BEGIN:STANDARD
DTSTART:20251026T020000
RDATE:20260329T030000
TZOFFSETFROM:+0200
TZOFFSETTO:+0100
TZNAME:Europe/Berlin CET
END:STANDARD
BEGIN:STANDARD
DTSTART:20261025T020000
RDATE:20270328T030000
TZOFFSETFROM:+0200
TZOFFSETTO:+0100
TZNAME:Europe/Berlin CET
END:STANDARD
BEGIN:STANDARD
DTSTART:20271031T020000
RDATE:20280326T030000
TZOFFSETFROM:+0200
TZOFFSETTO:+0100
TZNAME:Europe/Berlin CET
END:STANDARD
BEGIN:STANDARD
DTSTART:20281029T020000
RDATE:20290325T030000
TZOFFSETFROM:+0200
TZOFFSETTO:+0100
TZNAME:Europe/Berlin CET
END:STANDARD
BEGIN:STANDARD
DTSTART:20291028T020000
RDATE:20300331T030000
TZOFFSETFROM:+0200
TZOFFSETTO:+0100
TZNAME:Europe/Berlin CET
END:STANDARD
BEGIN:STANDARD
DTSTART:20301027T020000
RDATE:20310330T030000
TZOFFSETFROM:+0200
TZOFFSETTO:+0100
TZNAME:Europe/Berlin CET
END:STANDARD
BEGIN:STANDARD
DTSTART:20311026T020000
RDATE:20320328T030000
TZOFFSETFROM:+0200
TZOFFSETTO:+0100
TZNAME:Europe/Berlin CET
END:STANDARD
BEGIN:DAYLIGHT
DTSTART:20250330T030000
RDATE:20251026T020000
TZOFFSETFROM:+0100
TZOFFSETTO:+0200
TZNAME:Europe/Berlin CEST
END:DAYLIGHT
BEGIN:DAYLIGHT
DTSTART:20260329T030000
RDATE:20261025T020000
TZOFFSETFROM:+0100
TZOFFSETTO:+0200
TZNAME:Europe/Berlin CEST
END:DAYLIGHT
BEGIN:DAYLIGHT
DTSTART:20270328T030000
RDATE:20271031T020000
TZOFFSETFROM:+0100
TZOFFSETTO:+0200
TZNAME:Europe/Berlin CEST
END:DAYLIGHT
BEGIN:DAYLIGHT
DTSTART:20280326T030000
RDATE:20281029T020000
TZOFFSETFROM:+0100
TZOFFSETTO:+0200
TZNAME:Europe/Berlin CEST
END:DAYLIGHT
BEGIN:DAYLIGHT
DTSTART:20290325T030000
RDATE:20291028T020000
TZOFFSETFROM:+0100
TZOFFSETTO:+0200
TZNAME:Europe/Berlin CEST
END:DAYLIGHT
BEGIN:DAYLIGHT
DTSTART:20300331T030000
RDATE:20301027T020000
TZOFFSETFROM:+0100
TZOFFSETTO:+0200
TZNAME:Europe/Berlin CEST
END:DAYLIGHT
BEGIN:DAYLIGHT
DTSTART:20310330T030000
RDATE:20311026T020000
TZOFFSETFROM:+0100
TZOFFSETTO:+0200
TZNAME:Europe/Berlin CEST
END:DAYLIGHT
END:VTIMEZONE
BEGIN:VEVENT
UID:f5b94033cc536caaa225d70ae449fbfb
CATEGORIES:DEFAULT
CREATED:20260101T140142
SUMMARY:SPD Adenau Stammtisch
LOCATION:Blaue Ecke Adenau
DESCRIPTION;ENCODING=QUOTED-PRINTABLE:<p>Wir laden alle Bürgerinnen und Bürger der Verbandsgemeinde Adenau herzli
 ch zu unserem offenen Stammtisch ein. In einer lockeren und ungezwungenen A
 tmosphäre möchten wir gemeinsam über Themen, Ideen und Perspektiven für das
  Jahr 2026 ins Gespräch kommen.</p><p>Der Stammtisch bietet bewusst Raum fü
 r Austausch, Diskussion und Begegnung. Uns ist wichtig, mit den Menschen au
 s der Region direkt ins Gespräch zu kommen, Anregungen aufzunehmen und Frag
 en offen zu diskutieren.</p><p>Als ersten Gast dürfen wir Herrn Thomas Meye
 r, Landtagskandidaten für den Wahlkreis 14, begrüßen. Er wird sich an diese
 m Abend persönlich vorstellen und Einblicke in seine politischen Ziele sowi
 e seine mögliche Zukunft im Landtag in Mainz geben.</p><p>Alle Interessiert
 en sind herzlich eingeladen – kommen Sie vorbei, bringen Sie Ihre Fragen un
 d Gedanken mit und gestalten Sie den Austausch aktiv mit.</p><p> </p><p> </
 p> Dieser Event wurde importiert von: https://www.spd-adenau.de/kalender/Ev
 entdetail/64/-/spd-adenau-stammtisch?tmpl=component
CONTACT:Diese E-Mail-Adresse ist vor Spambots geschützt! Zur Anzeige muss JavaScript eingeschaltet sein!
				document.getElementById('cloakd524e48417b1e65e3e06cce90c5b5884').innerHTML = '';
				var prefix = '&#109;a' + 'i&#108;' + '&#116;o';
				var path = 'hr' + 'ef' + '=';
				var addyd524e48417b1e65e3e06cce90c5b5884 = '&#105;nf&#111;' + '&#64;';
				addyd524e48417b1e65e3e06cce90c5b5884 = addyd524e48417b1e65e3e06cce90c5b5884 + 'bj&#111;&#101;rnw&#101;ck' + '&#46;' + 'd&#101;';
				var addy_textd524e48417b1e65e3e06cce90c5b5884 = '&#105;nf&#111;' + '&#64;' + 'bj&#111;&#101;rnw&#101;ck' + '&#46;' + 'd&#101;';document.getElementById('cloakd524e48417b1e65e3e06cce90c5b5884').innerHTML += ''+addy_textd524e48417b1e65e3e06cce90c5b5884+'';
		
DTSTAMP:20260421T081810Z
DTSTART;TZID=Europe/Berlin:20260112T190000
SEQUENCE:0
TRANSP:OPAQUE
END:VEVENT
END:VCALENDAR